BEGIN:VCALENDAR
VERSION:2.0
PRODID:-//Goalkeepers One - ECPv6.13.2.1//NONSGML v1.0//EN
CALSCALE:GREGORIAN
METHOD:PUBLISH
X-WR-CALNAME:Goalkeepers One
X-ORIGINAL-URL:https://goalkeepersone.com
X-WR-CALDESC:Events for Goalkeepers One
REFRESH-INTERVAL;VALUE=DURATION:PT1H
X-Robots-Tag:noindex
X-PUBLISHED-TTL:PT1H
BEGIN:VTIMEZONE
TZID:UTC
BEGIN:STANDARD
TZOFFSETFROM:+0000
TZOFFSETTO:+0000
TZNAME:UTC
DTSTART:20250101T000000
END:STANDARD
END:VTIMEZONE
BEGIN:VEVENT
DTSTART;VALUE=DATE:20250804
DTEND;VALUE=DATE:20260531
DTSTAMP:20260423T103451
CREATED:20250726T223102Z
LAST-MODIFIED:20260111T184559Z
UID:2271-1754265600-1780185599@goalkeepersone.com
SUMMARY:Season 2025-2026
DESCRIPTION:Goalkeepers One Academy \nWe are an academy specialized in the development and training of goalkeepers. Our goal is to help our goalkeepers reach their highest potential through innovative and effective methods of training. Our head coach has 15 years coaching and playing experience in professional and formative soccer. Our academy thrives in forming our goalkeepers by comprehensively training\, enhancing and reinforcing their individual potential. We have goalkeepers at every level\, professionals\, mls next\, college\, ecnl\, ecrl and academies training with us. \nLocations\n\nDoral Academy High School\nTropical Park \nSouth Miami Park\n\nRegular Schedule\n\nMonday \n\nTropical Park \n– One Group (5:00pm to 6:15pm) \nDoral Academy  \n– One Group (7:30pm to 9:00pm) \n\nTuesday \n\nTropical Park \n– One Group (7:30pm to 9:00pm) \n\nWednesday\n\nTropical Park \n– One Group (4:30pm to 5:30pm) \nDoral Academy  \n– One Group (7:30pm to 9:00pm) \n\nThursday \n\nTropical Park \n– One Group (7:30pm to 9:00pm) \n\nFriday\n\nSouth Miami Park (Not every Friday has training; on Sunday\, it is confirmed whether there will be training on Friday or not.) \n– One Group (6:00pm to 7:15pm) \nPrices\nMonthly Plans (August to May) | When selecting a monthly plan (Basic\, Medium\, or Full)\, you must make monthly payments throughout the season. You can change your plan\, but you cannot remove the goalkeeper. \n\nBasic – $160 (1 day per week)\nMedium – $250 (2 days per week)\nFull – $300 (unlimited classes)\nSingle Day – $50\n\n  \nImportant Information \nBy providing my signature below\, I hereby confirm my understanding of\, and consent to the following terms and conditions of our agreement: \n\n\n\n\n\n\n\nComply with monthly payments from August 1\, 2025 to May 30\, 2026. \n\n\nNo refunds will be made for no-shows or partial attendance. However\, we agree that unused\, prepaid\, sessions can be used on a different day at any of our approved fields during our normal schedule. \n\n\nMonthly payments will be drawn the 1st of each month (no later than the 4th). Credit card payments will have an additional charge of 3% of the monthly amount. Cash payments are due the first of each month. No prorated or partial refunds will be granted for partial attendance at training sessions. \n\n\nThe use of the Goalkeepers One shirt is mandatory. \n\n\nPostponed or cancelled training sessions due to issues beyond the control of Goalkeepers One\, (including\, for example\, but not limited to\, force majeure\, weather conditions\, holidays\, or park closures) does NOT imply discounts or refunds. Any unused\, prepaid\, sessions can be used on a different day at any of our approved fields during our normal schedule. \n\n\n\n\n\n\n\nRegister Here! \nFill Registration and Waiver\n\n  \nTo Register:\n\nPayment Methods:\n\nZelle: goalkeepersone1@gmail.com\nVenmo: @goalkeepersone\nCash App $goalkeepersone\nCash\nCredit Card with a 3% surcharge (select it in the registration form  and we will contact you to let you know the steps to follow)\n\n\n\n\n  \n  \n\n\nSend the payment voucher with the name of the person making the payment\, specify which week the payment corresponds to\, name of the goalkeeper\, date of birth\, team and age.\nComplete the registration form online.\n\n  \nFill Registration and Waiver\n  \n  \n\n\nFOR MORE INFORMATION\, PLEASE DO NOT HESITATE TO CONTACT US: \nPhone: (786) 599 9508 / (786) 599 7998Email: goalkeepersone1@gmail.comInstagram: @Goalkeepersone \nYou can call or text us by message or whatsapp. \n\n\nRegistration and Waiver\nPlease enable JavaScript in your browser to complete this form.RegistrationGoalkeeper's Name *FirstLastGoalkeeper's Birth Year *Goalkeeper's Age *Monthly Plans (August to May) |  When selecting a monthly plan (Basic\, Medium\, or Full)\, you must make monthly payments throughout the season. You can change your plan\, but you cannot remove the goalkeeper. *Basic - $160 (1 day per week)Medium - $250 (2 days per week)Full - $300 (unlimited classes)Single Day - $50Club & Team *Address *Address Line 1Address Line 2CityAlabamaAlaskaArizonaArkansasCaliforniaColoradoConnecticutDelawareDistrict of ColumbiaFloridaGeorgiaHawaiiIdahoIllinoisIndianaIowaKansasKentuckyLouisianaMaineMarylandMassachusettsMichiganMinnesotaMississippiMissouriMontanaNebraskaNevadaNew HampshireNew JerseyNew MexicoNew YorkNorth CarolinaNorth DakotaOhioOklahomaOregonPennsylvaniaRhode IslandSouth CarolinaSouth DakotaTennesseeTexasUtahVermontVirginiaWashingtonWest VirginiaWisconsinWyomingStateZip CodeMother - Guardian's Name *FirstLastLayoutMother's Email *Mother's Phone *Father's - Guardian's Name *FirstLastLayout (copy)Father's Email *Father's Phone *I am registering for Goalkeepers One Season 2025-2026 *I agree with the Goalkeepers One rules and conditions.Payment Method *Zelle: goalkeepersone1@gmail.comVenmo: @goalkeepersoneCash App: $goalkeepersoneCredit Card with a 3% surcharge (select it in the registration form  and we will contact you to let you know the steps to follow)CashWaiverMy signature below confirms and consents to the following: \nI am fully aware and appreciate the risk\, including the risk of catastrophic injury\, as well as other damages and losses associated with participation in a sport activity. This includes “OPEN DAY\, TRIAL CLASSES\, BIRTHDAY PARTIES\, SOCCER PRACTICE AND PRIVATE CLASSES”. \n I further acknowledge and consent to my child being involved in a sport where there can be an accident or injury and will take full financial responsibility for any loss or damages. I further agree that GOALKEEPERS ONE\, along with the employees\, agents\, officers and directors of this organization shall not be liable for any losses or damages occurring as a result of my child’s participation in SOCCER. This includes “OPEN DAY\, TRIALCLASSES\, BIRTHDAY PARTIES\, AND SOCCER PRACTICE”.  \nI have read and understand the rules and policies and will follow and comply with all of them to the letter. I realize that failure to comply could mean my child’s denial to participate at GOALKEEPERS ONE and/or its “OPEN DAY\, TRIAL CLASSES\, BIRTHDAY PARTIES\, AND SOCCER PRACTICE”. \nThere will be no refund if a child is removed from “OPEN DAY\, TRIAL CLASSES\, BIRTHDAY PARTIES\, SOCCER PRACTICE”\, for failure to follow the rules. All participants must be signed in by a parent\, legal guardian or other adult chaperone before they will be allowed in the soccer field. A note giving “permission to attend OPEN DAY\, TRIAL CLASSES\, BIRTHDAY PARTIES\, SOCCER PRACTICE and holding the school HARMLESS” will suffice if you are not a member of GOALKEEPERS ONE. A member is such that child is enrolled in GOALKEEPERS ONE\, has a release form on file and tuition has been paid and is current. \nI also understand that GOALKEEPERS ONE retains the right to use any photographs\, videotapes\, motion picture recordings\, or any other record of events for publicity\, advertising\, or any other legitimate purpose. \nParent Print Name Waiver *Signature Waiver *Register   \n\n\n\n\n\n\n\nLocation:
URL:https://goalkeepersone.com/event/season-2025-2026/
LOCATION:FL
ATTACH;FMTTYPE=image/jpeg:https://goalkeepersone.com/wp-content/uploads/2025/07/ART-SEASON.jpg
END:VEVENT
BEGIN:VEVENT
DTSTART;VALUE=DATE:20260608
DTEND;VALUE=DATE:20260808
DTSTAMP:20260423T103451
CREATED:20260418T202750Z
LAST-MODIFIED:20260418T203138Z
UID:2341-1780876800-1786147199@goalkeepersone.com
SUMMARY:Summer Training 2026
DESCRIPTION:Summer Training Information  \n\nSessions are available for keepers from 7 to 20 years old (groups will be divided by age and will work according to their age). \n9 weeks – Monday to Friday  from 9:30a.m to 12:30p.m on following dates at Doral Academy High School. \n\nWEEK 1:\n\n– From June 08 to 12 \n\nWEEK 2:\n\n– From June 15 to 19  \n\nWEEK 3:\n\n– From June 22 to 26 \n\nWEEK 4 – July 4th week:\n\nMONDAY\, TUESDAY AND WEDNESDAY – $150 \n– From June 29 to July 01 \n\nWEEK 5:\n\n– From July 06 to 10 \nWEEK 6: \n– From July 13 to 17 \n\nWEEK 7:\n\n– From July 20 to 24 \n\nWEEK 8:\n\n– From July 27 to August 31 \n\nWEEK – EVENING SCHEDULE\n\n– From August 03 to 07 \n(6:00pm to 7:45pm) \n  \nLOCATION: Doral Academy Preparatory School \n11100 NW 27th St\, Doral\, FL 33172 \n \n\n  \nRegister Here! \nFill Registration and Waiver\n\n  \nHOURS:\n\nFrom 9:30a.m. to 12:30p.m.\n\n  \n\nPRICES:\n\n\n9 weeks $180 (per week) | ONLY PRE PAY \n\n\nWeekly $200 (per week) \n\n\nDaily Fee: $55 \n\n\nJuly 4th week: $150 \n\n\nPayments must be made before the start of each week. \n  \nSibling disccount – 20% off per sibling \n\n\nIndications:\n\nGoalkeepers must wear the Goalkeepers One jersey with black shorts or pants and black socks. For more information about available sizes\, click here.\n\n\n\nMandatory Goalkeepers One Shirt($35)\n\n\n\n  \n\nGoalkeepers must bring hydration.\nFootwear must be for turf.\nPlease confirm shirt sizes in advance so we can order them from the supplier.\nNo pets in the school. \nParents can’t enter to the field.\n\n  \nTo Register:\n\nPayment Methods:\n\nZelle: goalkeepersone1@gmail.com\nVenmo: @goalkeepersone\nCash App $goalkeepersone\nCash\nCredit Card with a 3% surcharge (select it in the registration form  and we will contact you to let you know the steps to follow)\n\n\n\n\n \n\n\nSend the payment voucher with the name of the person making the payment\, specify which week the payment corresponds to\, name of the goalkeeper\, date of birth\, team and age.\nComplete the registration form online.\n\n  \nFill Registration and Waiver\n  \n  \n\n\nFOR MORE INFORMATION\, PLEASE DO NOT HESITATE TO CONTACT US: \nPhone: (786) 599 9508 / (786) 599 7998Email: goalkeepersone1@gmail.comInstagram: @Goalkeepersone \nYou can call or text us by message or whatsapp. \n\n\nRegistration and Waiver\nPlease enable JavaScript in your browser to complete this form.RegistrationGoalkeeper's Name *FirstLastGoalkeeper's Age *Club & Team *Goalkeeper's Birth Date *Are you buying a Goalkeepers One shirt? *YesNo\, I already have oneGoalkeeper's Shirt Size *Youth SYouth MYouth LYouth XLAdult SAdult MAdult LAdult XLAddress *Address Line 1Address Line 2CityAlabamaAlaskaArizonaArkansasCaliforniaColoradoConnecticutDelawareDistrict of ColumbiaFloridaGeorgiaHawaiiIdahoIllinoisIndianaIowaKansasKentuckyLouisianaMaineMarylandMassachusettsMichiganMinnesotaMississippiMissouriMontanaNebraskaNevadaNew HampshireNew JerseyNew MexicoNew YorkNorth CarolinaNorth DakotaOhioOklahomaOregonPennsylvaniaRhode IslandSouth CarolinaSouth DakotaTennesseeTexasUtahVermontVirginiaWashingtonWest VirginiaWisconsinWyomingStateZip CodeMother - Guardian's Name *FirstLastLayoutMother's Email *Mother's Phone *Father's - Guardian's Name *FirstLastLayout (copy)Father's Email *Father's Phone *Payment Method *Zelle: goalkeepersone1@gmail.comVenmo: @goalkeepersoneCash App: $goalkeepersoneCredit Card with a 3% surcharge (select it in the registration form  and we will contact you to let you know the steps to follow)CashWeeks the goalkeeper will attend: *WEEK 1: – From June 08 to 12WEEK 2: – From June 15 to 19WEEK 3: – From June 22 to 26WEEK 4 – July 4th week – From June 29 to July 01WEEK 5: – From July 06 to 10WEEK 6: – From July 13 to 17WEEK 7: – From July 20 to 24WEEK 8: – From July 27 to 31WEEK 9: – From August 03 to 07 (evening time)Special Observations (Allergies\, Preferences\, Special Care\, Questions\, etc)WaiverMy signature below confirms and consents to the following: \nI am fully aware and appreciate the risk\, including the risk of catastrophic injury\, as well as other damages and losses associated with participation in a sport activity. This includes “OPEN DAY\, TRIAL CLASSES\, BIRTHDAY PARTIES\, SOCCER PRACTICE AND PRIVATE CLASSES”. \n I further acknowledge and consent to my child being involved in a sport where there can be an accident or injury and will take full financial responsibility for any loss or damages. I further agree that GOALKEEPERS ONE\, along with the employees\, agents\, officers and directors of this organization shall not be liable for any losses or damages occurring as a result of my child’s participation in SOCCER. This includes “OPEN DAY\, TRIALCLASSES\, BIRTHDAY PARTIES\, AND SOCCER PRACTICE”.  \nI have read and understand the rules and policies and will follow and comply with all of them to the letter. I realize that failure to comply could mean my child’s denial to participate at GOALKEEPERS ONE and/or its “OPEN DAY\, TRIAL CLASSES\, BIRTHDAY PARTIES\, AND SOCCER PRACTICE”. \nThere will be no refund if a child is removed from “OPEN DAY\, TRIAL CLASSES\, BIRTHDAY PARTIES\, SOCCER PRACTICE”\, for failure to follow the rules. All participants must be signed in by a parent\, legal guardian or other adult chaperone before they will be allowed in the soccer field. A note giving “permission to attend OPEN DAY\, TRIAL CLASSES\, BIRTHDAY PARTIES\, SOCCER PRACTICE and holding the school HARMLESS” will suffice if you are not a member of GOALKEEPERS ONE. A member is such that child is enrolled in GOALKEEPERS ONE\, has a release form on file and tuition has been paid and is current. \nI also understand that GOALKEEPERS ONE retains the right to use any photographs\, videotapes\, motion picture recordings\, or any other record of events for publicity\, advertising\, or any other legitimate purpose. \nParent Print Name Waiver *Signature Waiver *Register   \n\n\n\n\n\n\n\nLocation:
URL:https://goalkeepersone.com/event/summer-training-2026/
LOCATION:Doral Academy Preparatory High School\, 11100 NW 27th St\, Doral\, FL\, 33178\, United States
ATTACH;FMTTYPE=image/jpeg:https://goalkeepersone.com/wp-content/uploads/2026/04/SUMMER-PROGRAM.jpg
END:VEVENT
END:VCALENDAR